BEGIN:VCALENDAR
VERSION:2.0
PRODID:-//Kenya Cardiac Society - ECPv6.11.2.1//NONSGML v1.0//EN
CALSCALE:GREGORIAN
METHOD:PUBLISH
X-WR-CALNAME:Kenya Cardiac Society
X-ORIGINAL-URL:https://kenyacardiacs.org
X-WR-CALDESC:Events for Kenya Cardiac Society
REFRESH-INTERVAL;VALUE=DURATION:PT1H
X-Robots-Tag:noindex
X-PUBLISHED-TTL:PT1H
BEGIN:VTIMEZONE
TZID:Africa/Nairobi
BEGIN:STANDARD
TZOFFSETFROM:+0300
TZOFFSETTO:+0300
TZNAME:EAT
DTSTART:20250101T000000
END:STANDARD
END:VTIMEZONE
BEGIN:VEVENT
DTSTART;VALUE=DATE:20250501
DTEND;VALUE=DATE:20250601
DTSTAMP:20260421T185608
CREATED:20250804T180330Z
LAST-MODIFIED:20250804T180911Z
UID:10000012-1746057600-1748735999@kenyacardiacs.org
SUMMARY:May Measurement Month (MMM)
DESCRIPTION:[vc_row][vc_column][/vc_column][/vc_row][vc_row][vc_column][vc_column_text]About May Measurement Month \nMay Measurement Month (MMM) is a global blood pressure screening awareness campaign initiated by the International Society of Hypertension (ISH). The Kenya Cardiac Society (KCS) joins the global community every May to highlight the importance of measuring your blood pressure (BP) and to raise awareness of the dangers posed by elevated BP and hypertension. \nSince its inception in 2017\, Kenya has actively participated in May Measurement Month (MMM) through coordinated efforts led by the Kenya Cardiac Society (KCS)\, in partnership with the Ministry of Health (MoH) at both national and county levels\, as well as other partners. \nCampaign Objectives \n\nScreen at least 1 million people aged 18 years and above for blood pressure.\nProvide lifestyle and dietary advice to all those screened who have BPs in the high normal (130-139 / 80-89 mmHg) and hypertensive (>140/90mmHg) ranges. \nTo provide advice on further follow-up of raised BP according to local facilities.\nTo use the data on untreated and inadequately treated hypertension to motivate governments to improve local screening facilities and policies\, and thereby reduce the global burden of disease associated with raised BP.\n\nKCS Role in MMM \nKCS coordinates and supports MMM activities nationwide by: \n\nSetting up screening sites in collaboration with public and private health facilities across Kenya.\nDelivering public education through webinars\, community outreach\, and distribution of informative materials.\nRunning media campaigns via TV\, radio\, and digital platforms to increase public awareness and encourage regular BP checks.\n\nHow You Can Participate \n\nGet Screened\nVisit any of our designated free screening sites across Kenya during May.\nKnow Your Numbers\nUnderstand your blood pressure reading and its health implications.\nTake Action\nIf your BP is high\, seek advice from a healthcare provider for lifestyle changes or medical care.\nSpread Awareness\nEncourage your family and friends to check their blood pressure regularly.\nSupport the Cause\n\nVolunteer as a healthcare provider or community ambassador\nPartner with KCS as a sponsor\, facility\, or media outlet\nShare your experience using the hashtags: #MMMKenya | #CheckYourPressure\n\n\n\nInsert gallery or photo slider here]\nShowcasing memorable moments from previous MMM events[/vc_column_text][/vc_column][/vc_row]
URL:https://kenyacardiacs.org/event/may-measurement-month-mmm/
CATEGORIES:Monthly Events
ORGANIZER;CN="Kenya Cardiac Society":MAILTO:secretariat@kenyacardiacs.org
END:VEVENT
END:VCALENDAR