BEGIN:VCALENDAR
VERSION:2.0
PRODID:-//Kenya Cardiac Society - ECPv6.11.2.1//NONSGML v1.0//EN
CALSCALE:GREGORIAN
METHOD:PUBLISH
X-WR-CALNAME:Kenya Cardiac Society
X-ORIGINAL-URL:https://kenyacardiacs.org
X-WR-CALDESC:Events for Kenya Cardiac Society
REFRESH-INTERVAL;VALUE=DURATION:PT1H
X-Robots-Tag:noindex
X-PUBLISHED-TTL:PT1H
BEGIN:VTIMEZONE
TZID:Africa/Nairobi
BEGIN:STANDARD
TZOFFSETFROM:+0300
TZOFFSETTO:+0300
TZNAME:EAT
DTSTART:20260101T000000
END:STANDARD
END:VTIMEZONE
BEGIN:VEVENT
DTSTART;TZID=Africa/Nairobi:20260217T190000
DTEND;TZID=Africa/Nairobi:20260217T200000
DTSTAMP:20260421T065755
CREATED:20260203T191520Z
LAST-MODIFIED:20260203T191953Z
UID:10000019-1771354800-1771358400@kenyacardiacs.org
SUMMARY:FOUNDATION ECG COURSE 2026: ECG Equipment and Leads
DESCRIPTION:[vc_row][vc_column][vc_column_text] \nWebinar Description\nThis course provides a practical introduction to ECG interpretation\, covering the fundamentals of cardiac rhythms\, waveform analysis\, and common abnormalities. It is designed to build confidence in reading and understanding ECGs for accurate clinical decision-making \nRegistration Link: Medic Learning Hub[/vc_column_text][/vc_column][/vc_row]
URL:https://kenyacardiacs.org/event/foundation-ecg-course-2026-ecg-equipment-and-leads/
CATEGORIES:FOUNDATION ECG COURSE 2026
ATTACH;FMTTYPE=image/jpeg:https://kenyacardiacs.org/wp-content/uploads/2026/02/foundation-course.jpeg
ORGANIZER;CN="Kenya Cardiac Society":MAILTO:secretariat@kenyacardiacs.org
LOCATION:https://www.medicallearninghub.africa/en/institution/efce1096-3e62-4bb2-8ac1-16448f14e03e/courses/04d6cc5e-6664-42cd-88b2-cbb68fa14711
END:VEVENT
END:VCALENDAR