BEGIN:VCALENDAR
VERSION:2.0
PRODID:-//Kenya Cardiac Society - ECPv6.11.2.1//NONSGML v1.0//EN
CALSCALE:GREGORIAN
METHOD:PUBLISH
X-WR-CALNAME:Kenya Cardiac Society
X-ORIGINAL-URL:https://kenyacardiacs.org
X-WR-CALDESC:Events for Kenya Cardiac Society
REFRESH-INTERVAL;VALUE=DURATION:PT1H
X-Robots-Tag:noindex
X-PUBLISHED-TTL:PT1H
BEGIN:VTIMEZONE
TZID:Africa/Nairobi
BEGIN:STANDARD
TZOFFSETFROM:+0300
TZOFFSETTO:+0300
TZNAME:EAT
DTSTART:20260101T000000
END:STANDARD
END:VTIMEZONE
BEGIN:VEVENT
DTSTART;TZID=Africa/Nairobi:20260421T080000
DTEND;TZID=Africa/Nairobi:20260616T220000
DTSTAMP:20260422T021859
CREATED:20260421T115841Z
LAST-MODIFIED:20260421T115841Z
UID:10000030-1776758400-1781647200@kenyacardiacs.org
SUMMARY:Delegate Registration Flyer
DESCRIPTION:
URL:https://kenyacardiacs.org/event/delegate-registration-flyer/
CATEGORIES:Congress
ATTACH;FMTTYPE=image/jpeg:https://kenyacardiacs.org/wp-content/uploads/2026/04/delegate-registration-flyer.jpeg
ORGANIZER;CN="Kenya Cardiac Society":MAILTO:secretariat@kenyacardiacs.org
END:VEVENT
END:VCALENDAR