BEGIN:VCALENDAR
VERSION:2.0
PRODID:-//Kenya Cardiac Society - ECPv6.11.2.1//NONSGML v1.0//EN
CALSCALE:GREGORIAN
METHOD:PUBLISH
X-WR-CALNAME:Kenya Cardiac Society
X-ORIGINAL-URL:https://kenyacardiacs.org
X-WR-CALDESC:Events for Kenya Cardiac Society
REFRESH-INTERVAL;VALUE=DURATION:PT1H
X-Robots-Tag:noindex
X-PUBLISHED-TTL:PT1H
BEGIN:VTIMEZONE
TZID:Africa/Nairobi
BEGIN:STANDARD
TZOFFSETFROM:+0300
TZOFFSETTO:+0300
TZNAME:EAT
DTSTART:20260101T000000
END:STANDARD
END:VTIMEZONE
BEGIN:VEVENT
DTSTART;TZID=Africa/Nairobi:20260203T190000
DTEND;TZID=Africa/Nairobi:20260203T203000
DTSTAMP:20260421T033608
CREATED:20260203T190159Z
LAST-MODIFIED:20260203T190250Z
UID:10000017-1770145200-1770150600@kenyacardiacs.org
SUMMARY:When a Big Heart Is Not Normal: A Pregnancy Heart Team Approach to Dilated Cardiomyopathy
DESCRIPTION:[vc_row][vc_column][vc_column_text]Webinar Overview  \nThis webinar will explore the diagnostic and clinical dilemmas surrounding dilated cardiomyopathy in pregnancy and the peripartum period. Key discussions will include missed opportunities in management\, recent advances\, established protocols\, and emerging global consensus on care. \nAbout the Presenters  \n\nDr. Yubrine Moraa Gachemb : Dr. Gachemba is a Consultant Cardiologist and Chief Cardiologist at PrimeCare Heart Clinic. She has advanced expertise in multimodality cardiac imaging\, women’s cardiovascular health\, and pregnancy-related heart disease. Trained within the UK NHS system and currently based in Nairobi\, Kenya\, she leads imaging-guided multidisciplinary care in cardio-obstetrics\, cardiomyopathy\, and structural heart disease. She serves as an Executive Committee Member of the Kenya Cardiac Society and is actively involved in Africa-focused research and registries aimed at improving cardiovascular outcomes in women\, with a strong emphasis on Pregnancy Heart Team models and context-appropriate implementation of international guidelines.\nDr. David Ndungori: Dr. Ndungori is a Consultant Obstetrician and Gynecologist and a Subspecialist in Maternal-Fetal Medicine (MFM). He is currently based in West Pokot and serves patients across the North Rift and Western regions of Kenya. He is deeply passionate about multidisciplinary approaches to managing obstetric patients with cardiological conditions. Moderator Dr. Saara Yunus Mubarak Dr. Mubarak is an Obstetrician and Gynecologist based at Likoni Sub-County Hospital\, Mombasa County. She has a strong interest in cardiac diseases in pregnancy and maternal cardiovascular health.\n\n[/vc_column_text][/vc_column][/vc_row]
URL:https://kenyacardiacs.org/event/when-a-big-heart-is-not-normal-a-pregnancy-heart-team-approach-to-dilated-cardiomyopathy/
CATEGORIES:Continuous Medical Education
ATTACH;FMTTYPE=image/jpeg:https://kenyacardiacs.org/wp-content/uploads/2026/02/When-a-Big-Heart-Is-Not-Normal.jpeg
ORGANIZER;CN="Kenya Cardiac Society":MAILTO:secretariat@kenyacardiacs.org
LOCATION:https://us06web.zoom.us/meeting/register/X8weTMjZRqCxfDg6lgcK-Q#/registration
END:VEVENT
BEGIN:VEVENT
DTSTART;TZID=Africa/Nairobi:20260205T190000
DTEND;TZID=Africa/Nairobi:20260205T203000
DTSTAMP:20260421T033608
CREATED:20260203T185139Z
LAST-MODIFIED:20260203T190147Z
UID:10000016-1770318000-1770323400@kenyacardiacs.org
SUMMARY:Right Heart Revealed: Essential Echo Assessment
DESCRIPTION:[vc_row][vc_column][vc_column_text]Please head over to our Medical Learning hub and register for the webinar: Right Heart Revealed: Essential Echo Assessment \nRegister Now\n[/vc_column_text][/vc_column][/vc_row]
URL:https://kenyacardiacs.org/event/right-heart-revealed-essential-echo-assessment/
CATEGORIES:Continuous Medical Education
ATTACH;FMTTYPE=image/webp:https://kenyacardiacs.org/wp-content/uploads/2026/02/Right-Heart-Revealed.webp
ORGANIZER;CN="Kenya Cardiac Society":MAILTO:secretariat@kenyacardiacs.org
LOCATION:https://www.medicallearninghub.africa/en/registration/2c1c5a96-670b-487f-8a5b-2d7a522ab244?org-id=efce1096-3e62-4bb2-8ac1-16448f14e03e
END:VEVENT
BEGIN:VEVENT
DTSTART;TZID=Africa/Nairobi:20260219T190000
DTEND;TZID=Africa/Nairobi:20260219T203000
DTSTAMP:20260421T033608
CREATED:20260216T171142Z
LAST-MODIFIED:20260216T183512Z
UID:10000027-1771527600-1771533000@kenyacardiacs.org
SUMMARY:GLP-1 Agonists: The New Frontier in Cardiovascular Protection
DESCRIPTION:[vc_row][vc_column][vc_column_text] \n\n\nSeven indications. One drug class. Zero access. \nGLP-1 receptor agonists are transforming cardiometabolic care — with evidence spanning diabetes\, obesity\, and cardiovascular risk reduction. \nSo why are so many eligible patients still not accessing them? \nJoin leading experts from the Kenya Cardiac Society (KCS) for a powerful discussion on the science\, the clinical impact\, and the real-world access challenges surrounding GLP-1 agonists. \n🗓 19 February 2026\n⏰ 7:00 PM – 8:30 PM (EAT)\n💻 Live Webinar + Q&A\n🎓 CPD Accredited \nFeaturing:\n👨🏽‍⚕️ Dr Anders Barasa – Consultant Cardiologist\n👨🏽‍⚕️ Dr George Otieno – Consultant Cardiologist\, Kijabe Hospital \nThis is a must-attend session for clinicians managing cardiometabolic risk. \n🔗 Register now: https://www.medicallearninghub.africa/en/registration/48a42501-1d40-4996-a0f8-85b925888746?org-id=efce1096-3e62-4bb2-8ac1-16448f14e03e \n#GLP1 #Cardiology #CardiometabolicHealth #CPD #KenyaCardiacSociety \n\n\n\n\n\n[/vc_column_text][/vc_column][/vc_row]
URL:https://kenyacardiacs.org/event/glp-1-agonists-the-new-frontier-in-cardiovascular-protection/
CATEGORIES:Continuous Medical Education
ATTACH;FMTTYPE=image/jpeg:https://kenyacardiacs.org/wp-content/uploads/2026/02/WhatsApp-Image-2026-02-16-at-17.40.19.jpeg
ORGANIZER;CN="Kenya Cardiac Society":MAILTO:secretariat@kenyacardiacs.org
END:VEVENT
BEGIN:VEVENT
DTSTART;TZID=Africa/Nairobi:20260226T190000
DTEND;TZID=Africa/Nairobi:20260226T193000
DTSTAMP:20260421T033608
CREATED:20260223T195944Z
LAST-MODIFIED:20260223T200313Z
UID:10000028-1772132400-1772134200@kenyacardiacs.org
SUMMARY:Modern Strategies in the Management of Resistant Hypertension
DESCRIPTION:[vc_row][vc_column][vc_column_text] \n🫀 Modern Strategies in the Management of Resistant Hypertension \nResistant hypertension remains a major clinical challenge — increasing cardiovascular risk despite multiple therapies. \nJoin the Kenya Cardiac Society for an expert-led\, CPD-accredited webinar exploring practical\, evidence-based approaches to managing difficult-to-control blood pressure. \n🎙 Speaker: Dr Redemptar Kimeu – Consultant Cardiologist🎤 Moderator: Dr Mwella Namasaka – Consultant Cardiologist \n📅 26 February 2026⏰ 7:00 PM – 8:30 PM (EAT)💻 Live Webinar🎓 CPD Accredited \nStrengthen your approach to resistant hypertension and improve patient outcomes. \n🔗 Register now. \n#KenyaCardiacSociety #ResistantHypertension #HypertensionManagement #CPD #Cardiology \n[/vc_column_text][/vc_column][/vc_row]
URL:https://kenyacardiacs.org/event/modern-strategies-in-the-management-of-resistant-hypertension/
CATEGORIES:Continuous Medical Education
ATTACH;FMTTYPE=image/jpeg:https://kenyacardiacs.org/wp-content/uploads/2026/02/WhatsApp-Image-2026-02-23-at-20.51.05.jpeg
ORGANIZER;CN="Kenya Cardiac Society":MAILTO:secretariat@kenyacardiacs.org
END:VEVENT
END:VCALENDAR