BEGIN:VCALENDAR
VERSION:2.0
PRODID:-//Kenya Cardiac Society - ECPv6.11.2.1//NONSGML v1.0//EN
CALSCALE:GREGORIAN
METHOD:PUBLISH
X-WR-CALNAME:Kenya Cardiac Society
X-ORIGINAL-URL:https://kenyacardiacs.org
X-WR-CALDESC:Events for Kenya Cardiac Society
REFRESH-INTERVAL;VALUE=DURATION:PT1H
X-Robots-Tag:noindex
X-PUBLISHED-TTL:PT1H
BEGIN:VTIMEZONE
TZID:Africa/Nairobi
BEGIN:STANDARD
TZOFFSETFROM:+0300
TZOFFSETTO:+0300
TZNAME:EAT
DTSTART:20260101T000000
END:STANDARD
END:VTIMEZONE
BEGIN:VEVENT
DTSTART;TZID=Africa/Nairobi:20260205T190000
DTEND;TZID=Africa/Nairobi:20260205T203000
DTSTAMP:20260421T122201
CREATED:20260203T185139Z
LAST-MODIFIED:20260203T190147Z
UID:10000016-1770318000-1770323400@kenyacardiacs.org
SUMMARY:Right Heart Revealed: Essential Echo Assessment
DESCRIPTION:[vc_row][vc_column][vc_column_text]Please head over to our Medical Learning hub and register for the webinar: Right Heart Revealed: Essential Echo Assessment \nRegister Now\n[/vc_column_text][/vc_column][/vc_row]
URL:https://kenyacardiacs.org/event/right-heart-revealed-essential-echo-assessment/
CATEGORIES:Continuous Medical Education
ATTACH;FMTTYPE=image/webp:https://kenyacardiacs.org/wp-content/uploads/2026/02/Right-Heart-Revealed.webp
ORGANIZER;CN="Kenya Cardiac Society":MAILTO:secretariat@kenyacardiacs.org
LOCATION:https://www.medicallearninghub.africa/en/registration/2c1c5a96-670b-487f-8a5b-2d7a522ab244?org-id=efce1096-3e62-4bb2-8ac1-16448f14e03e
END:VEVENT
BEGIN:VEVENT
DTSTART;TZID=Africa/Nairobi:20260210T190000
DTEND;TZID=Africa/Nairobi:20260210T200000
DTSTAMP:20260421T122201
CREATED:20260203T191249Z
LAST-MODIFIED:20260203T191928Z
UID:10000018-1770750000-1770753600@kenyacardiacs.org
SUMMARY:FOUNDATION ECG COURSE 2026 : Introduction to the Electrocardiogram
DESCRIPTION:[vc_row][vc_column][vc_column_text] \nWebinar Description\nThis course provides a practical introduction to ECG interpretation\, covering the fundamentals of cardiac rhythms\, waveform analysis\, and common abnormalities. It is designed to build confidence in reading and understanding ECGs for accurate clinical decision-making \nRegistration Link: Medic Learning Hub[/vc_column_text][/vc_column][/vc_row]
URL:https://kenyacardiacs.org/event/foundation-ecg-course-2026-introduction-to-the-electrocardiogram/
CATEGORIES:FOUNDATION ECG COURSE 2026
ORGANIZER;CN="Kenya Cardiac Society":MAILTO:secretariat@kenyacardiacs.org
END:VEVENT
END:VCALENDAR