BEGIN:VCALENDAR
VERSION:2.0
PRODID:-//Kenya Cardiac Society - ECPv6.11.2.1//NONSGML v1.0//EN
CALSCALE:GREGORIAN
METHOD:PUBLISH
X-WR-CALNAME:Kenya Cardiac Society
X-ORIGINAL-URL:https://kenyacardiacs.org
X-WR-CALDESC:Events for Kenya Cardiac Society
REFRESH-INTERVAL;VALUE=DURATION:PT1H
X-Robots-Tag:noindex
X-PUBLISHED-TTL:PT1H
BEGIN:VTIMEZONE
TZID:Africa/Nairobi
BEGIN:STANDARD
TZOFFSETFROM:+0300
TZOFFSETTO:+0300
TZNAME:EAT
DTSTART:20250101T000000
END:STANDARD
END:VTIMEZONE
BEGIN:VEVENT
DTSTART;TZID=Africa/Nairobi:20250928T080000
DTEND;TZID=Africa/Nairobi:20250928T170000
DTSTAMP:20260421T112219
CREATED:20250804T180054Z
LAST-MODIFIED:20250923T214238Z
UID:10000011-1759046400-1759078800@kenyacardiacs.org
SUMMARY:World Heart Day 2025
DESCRIPTION:[vc_row][vc_column][/vc_column][/vc_row][vc_row][vc_column][vc_column_text]Cardiovascular Diseases (CVDs) remain the leading cause of death globally. That’s why\, every year on 28th September\, the Kenya Cardiac Society (KCS) proudly joins the global community in commemorating World Heart Day—a worldwide initiative led by the World Heart Federation to raise awareness about heart health and promote heart-friendly lifestyles. \nOur Annual Participation \nIn Kenya\, KCS partners with a wide network of stakeholders to coordinate impactful activities across the country. These include: \n\nMinistry of Health (MoH) – National and County levels\nHospitals & healthcare professionals\nPatient associations\nMedical professional bodies (e.g.\, Kenya Medical Association)\n\nKey Activities Include: \n\n⚽ “Healthy Heart Football Tournament” – A fun\, engaging tournament organized in partnership with Kenya Medical Association (KMA) to promote physical activity\n🖥️ Public Awareness Webinars – Conducted in collaboration with the Ministry of Health and other key partners\n📢 Media Campaigns – Week-long awareness drives on TV\, radio\, and social media to:\n\nEducate the public on heart disease and stroke prevention\nPromote healthy diets\, regular exercise\, and tobacco control\n\n\n🩺 Free Cardiovascular Screenings & Consultations – Conducted in hospitals and public spaces\n🚶 Community Engagement – Including awareness walks\, health caravans\, and outreach clinics\n\nGet Involved \nWe invite you to join us in making every heartbeat count. Follow us on our social media platforms and check our events calendar for details on this year’s World Heart Day activities. \nPast Highlights[/vc_column_text][vc_gallery interval=”3″ images=”4608\,4609\,4610\,4611\,4612\,4613\,4614\,4615\,4616\,4617\,4618\,4619\,4620\,4621\,4622\,4623\,4624\,4625\,4626\,4627\,4628\,4629\,4630\,4631\,4632\,4633\,4634\,4635\,4636\,4637\,4638\,4639\,4640\,4641\,4642\,4643\,4644\,4645\,4646\,4647\,4648\,4649\,4650\,4651\,4652\,4653\,4654\,4655\,4656″ img_size=”full”][/vc_column][/vc_row]
URL:https://kenyacardiacs.org/event/world-heart-day/
CATEGORIES:International Events
ATTACH;FMTTYPE=image/png:https://kenyacardiacs.org/wp-content/uploads/2025/05/Worl-Heart-day-Poster_Main-Poster-1-scaled.png
ORGANIZER;CN="Kenya Cardiac Society":MAILTO:secretariat@kenyacardiacs.org
END:VEVENT
BEGIN:VEVENT
DTSTART;TZID=Africa/Nairobi:20250928T190000
DTEND;TZID=Africa/Nairobi:20251008T203000
DTSTAMP:20260421T112219
CREATED:20250501T114827Z
LAST-MODIFIED:20250923T212013Z
UID:10000001-1759086000-1759955400@kenyacardiacs.org
SUMMARY:Kenya Cardiac Cup 2025
DESCRIPTION:
URL:https://kenyacardiacs.org/event/precision-in-prevention/
CATEGORIES:Continuous Medical Education
ATTACH;FMTTYPE=image/png:https://kenyacardiacs.org/wp-content/uploads/2025/05/Worl-Heart-day-Poster_Soccer-poster-1-scaled.png
ORGANIZER;CN="Kenya Cardiac Society":MAILTO:secretariat@kenyacardiacs.org
LOCATION:
END:VEVENT
END:VCALENDAR