BEGIN:VCALENDAR
VERSION:2.0
PRODID:-//Kenya Cardiac Society - ECPv6.11.2.1//NONSGML v1.0//EN
CALSCALE:GREGORIAN
METHOD:PUBLISH
X-WR-CALNAME:Kenya Cardiac Society
X-ORIGINAL-URL:https://kenyacardiacs.org
X-WR-CALDESC:Events for Kenya Cardiac Society
REFRESH-INTERVAL;VALUE=DURATION:PT1H
X-Robots-Tag:noindex
X-PUBLISHED-TTL:PT1H
BEGIN:VTIMEZONE
TZID:Africa/Nairobi
BEGIN:STANDARD
TZOFFSETFROM:+0300
TZOFFSETTO:+0300
TZNAME:EAT
DTSTART:20260101T000000
END:STANDARD
END:VTIMEZONE
BEGIN:VEVENT
DTSTART;TZID=Africa/Nairobi:20260203T190000
DTEND;TZID=Africa/Nairobi:20260203T203000
DTSTAMP:20260421T102801
CREATED:20260203T190159Z
LAST-MODIFIED:20260203T190250Z
UID:10000017-1770145200-1770150600@kenyacardiacs.org
SUMMARY:When a Big Heart Is Not Normal: A Pregnancy Heart Team Approach to Dilated Cardiomyopathy
DESCRIPTION:[vc_row][vc_column][vc_column_text]Webinar Overview  \nThis webinar will explore the diagnostic and clinical dilemmas surrounding dilated cardiomyopathy in pregnancy and the peripartum period. Key discussions will include missed opportunities in management\, recent advances\, established protocols\, and emerging global consensus on care. \nAbout the Presenters  \n\nDr. Yubrine Moraa Gachemb : Dr. Gachemba is a Consultant Cardiologist and Chief Cardiologist at PrimeCare Heart Clinic. She has advanced expertise in multimodality cardiac imaging\, women’s cardiovascular health\, and pregnancy-related heart disease. Trained within the UK NHS system and currently based in Nairobi\, Kenya\, she leads imaging-guided multidisciplinary care in cardio-obstetrics\, cardiomyopathy\, and structural heart disease. She serves as an Executive Committee Member of the Kenya Cardiac Society and is actively involved in Africa-focused research and registries aimed at improving cardiovascular outcomes in women\, with a strong emphasis on Pregnancy Heart Team models and context-appropriate implementation of international guidelines.\nDr. David Ndungori: Dr. Ndungori is a Consultant Obstetrician and Gynecologist and a Subspecialist in Maternal-Fetal Medicine (MFM). He is currently based in West Pokot and serves patients across the North Rift and Western regions of Kenya. He is deeply passionate about multidisciplinary approaches to managing obstetric patients with cardiological conditions. Moderator Dr. Saara Yunus Mubarak Dr. Mubarak is an Obstetrician and Gynecologist based at Likoni Sub-County Hospital\, Mombasa County. She has a strong interest in cardiac diseases in pregnancy and maternal cardiovascular health.\n\n[/vc_column_text][/vc_column][/vc_row]
URL:https://kenyacardiacs.org/event/when-a-big-heart-is-not-normal-a-pregnancy-heart-team-approach-to-dilated-cardiomyopathy/
CATEGORIES:Continuous Medical Education
ATTACH;FMTTYPE=image/jpeg:https://kenyacardiacs.org/wp-content/uploads/2026/02/When-a-Big-Heart-Is-Not-Normal.jpeg
ORGANIZER;CN="Kenya Cardiac Society":MAILTO:secretariat@kenyacardiacs.org
LOCATION:https://us06web.zoom.us/meeting/register/X8weTMjZRqCxfDg6lgcK-Q#/registration
END:VEVENT
BEGIN:VEVENT
DTSTART;TZID=Africa/Nairobi:20260205T190000
DTEND;TZID=Africa/Nairobi:20260205T203000
DTSTAMP:20260421T102801
CREATED:20260203T185139Z
LAST-MODIFIED:20260203T190147Z
UID:10000016-1770318000-1770323400@kenyacardiacs.org
SUMMARY:Right Heart Revealed: Essential Echo Assessment
DESCRIPTION:[vc_row][vc_column][vc_column_text]Please head over to our Medical Learning hub and register for the webinar: Right Heart Revealed: Essential Echo Assessment \nRegister Now\n[/vc_column_text][/vc_column][/vc_row]
URL:https://kenyacardiacs.org/event/right-heart-revealed-essential-echo-assessment/
CATEGORIES:Continuous Medical Education
ATTACH;FMTTYPE=image/webp:https://kenyacardiacs.org/wp-content/uploads/2026/02/Right-Heart-Revealed.webp
ORGANIZER;CN="Kenya Cardiac Society":MAILTO:secretariat@kenyacardiacs.org
LOCATION:https://www.medicallearninghub.africa/en/registration/2c1c5a96-670b-487f-8a5b-2d7a522ab244?org-id=efce1096-3e62-4bb2-8ac1-16448f14e03e
END:VEVENT
BEGIN:VEVENT
DTSTART;TZID=Africa/Nairobi:20260210T190000
DTEND;TZID=Africa/Nairobi:20260210T200000
DTSTAMP:20260421T102801
CREATED:20260203T191249Z
LAST-MODIFIED:20260203T191928Z
UID:10000018-1770750000-1770753600@kenyacardiacs.org
SUMMARY:FOUNDATION ECG COURSE 2026 : Introduction to the Electrocardiogram
DESCRIPTION:[vc_row][vc_column][vc_column_text] \nWebinar Description\nThis course provides a practical introduction to ECG interpretation\, covering the fundamentals of cardiac rhythms\, waveform analysis\, and common abnormalities. It is designed to build confidence in reading and understanding ECGs for accurate clinical decision-making \nRegistration Link: Medic Learning Hub[/vc_column_text][/vc_column][/vc_row]
URL:https://kenyacardiacs.org/event/foundation-ecg-course-2026-introduction-to-the-electrocardiogram/
CATEGORIES:FOUNDATION ECG COURSE 2026
ORGANIZER;CN="Kenya Cardiac Society":MAILTO:secretariat@kenyacardiacs.org
END:VEVENT
BEGIN:VEVENT
DTSTART;TZID=Africa/Nairobi:20260217T190000
DTEND;TZID=Africa/Nairobi:20260217T200000
DTSTAMP:20260421T102801
CREATED:20260203T191520Z
LAST-MODIFIED:20260203T191953Z
UID:10000019-1771354800-1771358400@kenyacardiacs.org
SUMMARY:FOUNDATION ECG COURSE 2026: ECG Equipment and Leads
DESCRIPTION:[vc_row][vc_column][vc_column_text] \nWebinar Description\nThis course provides a practical introduction to ECG interpretation\, covering the fundamentals of cardiac rhythms\, waveform analysis\, and common abnormalities. It is designed to build confidence in reading and understanding ECGs for accurate clinical decision-making \nRegistration Link: Medic Learning Hub[/vc_column_text][/vc_column][/vc_row]
URL:https://kenyacardiacs.org/event/foundation-ecg-course-2026-ecg-equipment-and-leads/
CATEGORIES:FOUNDATION ECG COURSE 2026
ATTACH;FMTTYPE=image/jpeg:https://kenyacardiacs.org/wp-content/uploads/2026/02/foundation-course.jpeg
ORGANIZER;CN="Kenya Cardiac Society":MAILTO:secretariat@kenyacardiacs.org
LOCATION:https://www.medicallearninghub.africa/en/institution/efce1096-3e62-4bb2-8ac1-16448f14e03e/courses/04d6cc5e-6664-42cd-88b2-cbb68fa14711
END:VEVENT
BEGIN:VEVENT
DTSTART;TZID=Africa/Nairobi:20260219T190000
DTEND;TZID=Africa/Nairobi:20260219T203000
DTSTAMP:20260421T102801
CREATED:20260216T171142Z
LAST-MODIFIED:20260216T183512Z
UID:10000027-1771527600-1771533000@kenyacardiacs.org
SUMMARY:GLP-1 Agonists: The New Frontier in Cardiovascular Protection
DESCRIPTION:[vc_row][vc_column][vc_column_text] \n\n\nSeven indications. One drug class. Zero access. \nGLP-1 receptor agonists are transforming cardiometabolic care — with evidence spanning diabetes\, obesity\, and cardiovascular risk reduction. \nSo why are so many eligible patients still not accessing them? \nJoin leading experts from the Kenya Cardiac Society (KCS) for a powerful discussion on the science\, the clinical impact\, and the real-world access challenges surrounding GLP-1 agonists. \n🗓 19 February 2026\n⏰ 7:00 PM – 8:30 PM (EAT)\n💻 Live Webinar + Q&A\n🎓 CPD Accredited \nFeaturing:\n👨🏽‍⚕️ Dr Anders Barasa – Consultant Cardiologist\n👨🏽‍⚕️ Dr George Otieno – Consultant Cardiologist\, Kijabe Hospital \nThis is a must-attend session for clinicians managing cardiometabolic risk. \n🔗 Register now: https://www.medicallearninghub.africa/en/registration/48a42501-1d40-4996-a0f8-85b925888746?org-id=efce1096-3e62-4bb2-8ac1-16448f14e03e \n#GLP1 #Cardiology #CardiometabolicHealth #CPD #KenyaCardiacSociety \n\n\n\n\n\n[/vc_column_text][/vc_column][/vc_row]
URL:https://kenyacardiacs.org/event/glp-1-agonists-the-new-frontier-in-cardiovascular-protection/
CATEGORIES:Continuous Medical Education
ATTACH;FMTTYPE=image/jpeg:https://kenyacardiacs.org/wp-content/uploads/2026/02/WhatsApp-Image-2026-02-16-at-17.40.19.jpeg
ORGANIZER;CN="Kenya Cardiac Society":MAILTO:secretariat@kenyacardiacs.org
END:VEVENT
BEGIN:VEVENT
DTSTART;TZID=Africa/Nairobi:20260224T190000
DTEND;TZID=Africa/Nairobi:20260224T200000
DTSTAMP:20260421T102801
CREATED:20260203T192202Z
LAST-MODIFIED:20260203T192202Z
UID:10000020-1771959600-1771963200@kenyacardiacs.org
SUMMARY:FOUNDATION ECG COURSE 2026: Foundations of ECG Interpretation 1
DESCRIPTION:
URL:https://kenyacardiacs.org/event/foundation-ecg-course-2026-foundations-of-ecg-interpretation-1/
CATEGORIES:FOUNDATION ECG COURSE 2026
ATTACH;FMTTYPE=image/jpeg:https://kenyacardiacs.org/wp-content/uploads/2026/02/foundation-course.jpeg
ORGANIZER;CN="Kenya Cardiac Society":MAILTO:secretariat@kenyacardiacs.org
LOCATION:https://www.medicallearninghub.africa/en/institution/efce1096-3e62-4bb2-8ac1-16448f14e03e/courses/04d6cc5e-6664-42cd-88b2-cbb68fa14711
END:VEVENT
BEGIN:VEVENT
DTSTART;TZID=Africa/Nairobi:20260226T190000
DTEND;TZID=Africa/Nairobi:20260226T193000
DTSTAMP:20260421T102801
CREATED:20260223T195944Z
LAST-MODIFIED:20260223T200313Z
UID:10000028-1772132400-1772134200@kenyacardiacs.org
SUMMARY:Modern Strategies in the Management of Resistant Hypertension
DESCRIPTION:[vc_row][vc_column][vc_column_text] \n🫀 Modern Strategies in the Management of Resistant Hypertension \nResistant hypertension remains a major clinical challenge — increasing cardiovascular risk despite multiple therapies. \nJoin the Kenya Cardiac Society for an expert-led\, CPD-accredited webinar exploring practical\, evidence-based approaches to managing difficult-to-control blood pressure. \n🎙 Speaker: Dr Redemptar Kimeu – Consultant Cardiologist🎤 Moderator: Dr Mwella Namasaka – Consultant Cardiologist \n📅 26 February 2026⏰ 7:00 PM – 8:30 PM (EAT)💻 Live Webinar🎓 CPD Accredited \nStrengthen your approach to resistant hypertension and improve patient outcomes. \n🔗 Register now. \n#KenyaCardiacSociety #ResistantHypertension #HypertensionManagement #CPD #Cardiology \n[/vc_column_text][/vc_column][/vc_row]
URL:https://kenyacardiacs.org/event/modern-strategies-in-the-management-of-resistant-hypertension/
CATEGORIES:Continuous Medical Education
ATTACH;FMTTYPE=image/jpeg:https://kenyacardiacs.org/wp-content/uploads/2026/02/WhatsApp-Image-2026-02-23-at-20.51.05.jpeg
ORGANIZER;CN="Kenya Cardiac Society":MAILTO:secretariat@kenyacardiacs.org
END:VEVENT
BEGIN:VEVENT
DTSTART;TZID=Africa/Nairobi:20260303T190000
DTEND;TZID=Africa/Nairobi:20260303T200000
DTSTAMP:20260421T102801
CREATED:20260203T192403Z
LAST-MODIFIED:20260203T192403Z
UID:10000021-1772564400-1772568000@kenyacardiacs.org
SUMMARY:FOUNDATION ECG COURSE 2026: Foundations of ECG Interpretation 2
DESCRIPTION:
URL:https://kenyacardiacs.org/event/foundation-ecg-course-2026-foundations-of-ecg-interpretation-2/
CATEGORIES:FOUNDATION ECG COURSE 2026
ATTACH;FMTTYPE=image/jpeg:https://kenyacardiacs.org/wp-content/uploads/2026/02/foundation-course.jpeg
ORGANIZER;CN="Kenya Cardiac Society":MAILTO:secretariat@kenyacardiacs.org
LOCATION:https://www.medicallearninghub.africa/en/institution/efce1096-3e62-4bb2-8ac1-16448f14e03e/courses/04d6cc5e-6664-42cd-88b2-cbb68fa14711
END:VEVENT
BEGIN:VEVENT
DTSTART;TZID=Africa/Nairobi:20260310T190000
DTEND;TZID=Africa/Nairobi:20260310T200000
DTSTAMP:20260421T102801
CREATED:20260203T192533Z
LAST-MODIFIED:20260203T192533Z
UID:10000022-1773169200-1773172800@kenyacardiacs.org
SUMMARY:FOUNDATION ECG COURSE 2026:  Bradyarrhythmia and heart block
DESCRIPTION:
URL:https://kenyacardiacs.org/event/foundation-ecg-course-2026-bradyarrhythmia-and-heart-block/
CATEGORIES:FOUNDATION ECG COURSE 2026
ATTACH;FMTTYPE=image/jpeg:https://kenyacardiacs.org/wp-content/uploads/2026/02/foundation-course.jpeg
ORGANIZER;CN="Kenya Cardiac Society":MAILTO:secretariat@kenyacardiacs.org
LOCATION:https://www.medicallearninghub.africa/en/institution/efce1096-3e62-4bb2-8ac1-16448f14e03e/courses/04d6cc5e-6664-42cd-88b2-cbb68fa14711
END:VEVENT
BEGIN:VEVENT
DTSTART;TZID=Africa/Nairobi:20260317T190000
DTEND;TZID=Africa/Nairobi:20260317T200000
DTSTAMP:20260421T102801
CREATED:20260203T192654Z
LAST-MODIFIED:20260203T192654Z
UID:10000023-1773774000-1773777600@kenyacardiacs.org
SUMMARY:FOUNDATION ECG COURSE 2026:  Tachyarrhythmias
DESCRIPTION:
URL:https://kenyacardiacs.org/event/foundation-ecg-course-2026-tachyarrhythmias/
CATEGORIES:FOUNDATION ECG COURSE 2026
ATTACH;FMTTYPE=image/jpeg:https://kenyacardiacs.org/wp-content/uploads/2026/02/foundation-course.jpeg
ORGANIZER;CN="Kenya Cardiac Society":MAILTO:secretariat@kenyacardiacs.org
LOCATION:https://www.medicallearninghub.africa/en/institution/efce1096-3e62-4bb2-8ac1-16448f14e03e/courses/04d6cc5e-6664-42cd-88b2-cbb68fa14711
END:VEVENT
BEGIN:VEVENT
DTSTART;TZID=Africa/Nairobi:20260324T190000
DTEND;TZID=Africa/Nairobi:20260324T200000
DTSTAMP:20260421T102801
CREATED:20260203T192832Z
LAST-MODIFIED:20260203T192832Z
UID:10000024-1774378800-1774382400@kenyacardiacs.org
SUMMARY:FOUNDATION ECG COURSE 2026:  ECG in Coronary Artery Disease
DESCRIPTION:
URL:https://kenyacardiacs.org/event/foundation-ecg-course-2026-ecg-in-coronary-artery-disease/
CATEGORIES:FOUNDATION ECG COURSE 2026
ATTACH;FMTTYPE=image/jpeg:https://kenyacardiacs.org/wp-content/uploads/2026/02/foundation-course.jpeg
ORGANIZER;CN="Kenya Cardiac Society":MAILTO:secretariat@kenyacardiacs.org
LOCATION:https://www.medicallearninghub.africa/en/institution/efce1096-3e62-4bb2-8ac1-16448f14e03e/courses/04d6cc5e-6664-42cd-88b2-cbb68fa14711
END:VEVENT
BEGIN:VEVENT
DTSTART;TZID=Africa/Nairobi:20260331T190000
DTEND;TZID=Africa/Nairobi:20260331T200000
DTSTAMP:20260421T102801
CREATED:20260203T193015Z
LAST-MODIFIED:20260203T193015Z
UID:10000025-1774983600-1774987200@kenyacardiacs.org
SUMMARY:FOUNDATION ECG COURSE 2026:  Life-threatening ECG patterns
DESCRIPTION:
URL:https://kenyacardiacs.org/event/foundation-ecg-course-2026-life-threatening-ecg-patterns/
CATEGORIES:FOUNDATION ECG COURSE 2026
ATTACH;FMTTYPE=image/jpeg:https://kenyacardiacs.org/wp-content/uploads/2026/02/foundation-course.jpeg
ORGANIZER;CN="Kenya Cardiac Society":MAILTO:secretariat@kenyacardiacs.org
LOCATION:https://www.medicallearninghub.africa/en/institution/efce1096-3e62-4bb2-8ac1-16448f14e03e/courses/04d6cc5e-6664-42cd-88b2-cbb68fa14711
END:VEVENT
BEGIN:VEVENT
DTSTART;TZID=Africa/Nairobi:20260407T190000
DTEND;TZID=Africa/Nairobi:20260407T200000
DTSTAMP:20260421T102801
CREATED:20260203T193157Z
LAST-MODIFIED:20260203T193157Z
UID:10000026-1775588400-1775592000@kenyacardiacs.org
SUMMARY:FOUNDATION ECG COURSE 2026:  ECG in the Emergency Department
DESCRIPTION:
URL:https://kenyacardiacs.org/event/foundation-ecg-course-2026-ecg-in-the-emergency-department/
CATEGORIES:FOUNDATION ECG COURSE 2026
ATTACH;FMTTYPE=image/jpeg:https://kenyacardiacs.org/wp-content/uploads/2026/02/foundation-course.jpeg
ORGANIZER;CN="Kenya Cardiac Society":MAILTO:secretariat@kenyacardiacs.org
LOCATION:https://www.medicallearninghub.africa/en/institution/efce1096-3e62-4bb2-8ac1-16448f14e03e/courses/04d6cc5e-6664-42cd-88b2-cbb68fa14711
END:VEVENT
END:VCALENDAR